BEGIN:VCALENDAR
VERSION:2.0
PRODID:-//Cranes101 - ECPv6.15.20//NONSGML v1.0//EN
CALSCALE:GREGORIAN
METHOD:PUBLISH
X-WR-CALNAME:Cranes101
X-ORIGINAL-URL:https://cranes101.com
X-WR-CALDESC:Events for Cranes101
REFRESH-INTERVAL;VALUE=DURATION:PT1H
X-Robots-Tag:noindex
X-PUBLISHED-TTL:PT1H
BEGIN:VTIMEZONE
TZID:America/New_York
BEGIN:DAYLIGHT
TZOFFSETFROM:-0500
TZOFFSETTO:-0400
TZNAME:EDT
DTSTART:20250309T070000
END:DAYLIGHT
BEGIN:STANDARD
TZOFFSETFROM:-0400
TZOFFSETTO:-0500
TZNAME:EST
DTSTART:20251102T060000
END:STANDARD
BEGIN:DAYLIGHT
TZOFFSETFROM:-0500
TZOFFSETTO:-0400
TZNAME:EDT
DTSTART:20260308T070000
END:DAYLIGHT
BEGIN:STANDARD
TZOFFSETFROM:-0400
TZOFFSETTO:-0500
TZNAME:EST
DTSTART:20261101T060000
END:STANDARD
BEGIN:DAYLIGHT
TZOFFSETFROM:-0500
TZOFFSETTO:-0400
TZNAME:EDT
DTSTART:20270314T070000
END:DAYLIGHT
BEGIN:STANDARD
TZOFFSETFROM:-0400
TZOFFSETTO:-0500
TZNAME:EST
DTSTART:20271107T060000
END:STANDARD
END:VTIMEZONE
BEGIN:VEVENT
DTSTART;TZID=America/New_York:20260427T080000
DTEND;TZID=America/New_York:20260428T150000
DTSTAMP:20260420T114300
CREATED:20260218T204304Z
LAST-MODIFIED:20260218T204304Z
UID:10000409-1777276800-1777388400@cranes101.com
SUMMARY:Vehicle Mounted Aerial Lift Inspection Training  (Bucket Truck Inspection with Dielectric Testing) - Cianbro - Pittsfield ME - PRIVATE
DESCRIPTION:This 2 day course offers training on conducting dielectric tests on aerial devices to measure any potential conductivity on insulated components and is best designed for experienced operators and mechanics who are interested in becoming the on-site equipment inspectors for their company.  Host companies must provide a HiPot on site.  A garage or indoor space is also helpful in the event of wet weather conditions. \nThis course is designed to cover the latest revisions of all relevant government and industry standards (OSHA and ANSI/ASME) with regards to how they should be used during inspections and creating reports detailing any deficiencies & recommendations. \nMaterial covered includes: \n\nHow the OSHA and ASME Standards apply to dielectric testing\nDescribing aerial device components\nStep-by-step procedures on conducting dielectric tests using a HiPot\nInterpreting dielectric test results\nHands-on Training and practice.\n\n  \nApproximate Training Length (class size/weather may affect schedule) \nDay 1:  8:00 am- 3pm \nDay 2:  8:00am – 1pm \nCranes101 offers this course offsite and at our Bellingham location.  Please see our calendar to find a course near you if you are unable to host your own class. \nUse this form below to request more information. One of our staff will be in contact with you soon. \nPlease enable JavaScript in your browser to complete this form.Please enable JavaScript in your browser to complete this form.Contact Name *FirstLastBusiness Name *Email *Phone *Address *Address Line 1City--- Select state ---AlabamaAlaskaArizonaArkansasCaliforniaColoradoConnecticutDelawareDistrict of ColumbiaFloridaGeorgiaHawaiiIdahoIllinoisIndianaIowaKansasKentuckyLouisianaMaineMarylandMassachusettsMichiganMinnesotaMississippiMissouriMontanaNebraskaNevadaNew HampshireNew JerseyNew MexicoNew YorkNorth CarolinaNorth DakotaOhioOklahomaOregonPennsylvaniaRhode IslandSouth CarolinaSouth DakotaTennesseeTexasUtahVermontVirginiaWashingtonWest VirginiaWisconsinWyomingStateZip CodeWhat can we help you with? *Nationally Accredited Mobile Crane Operator License CoursesMA OPSI SafetyWorks Workplace Training GrantOnline Training (available for some\, but not all\, courses)In Person TrainingOSHA Compliant Annual InspectionsRepairsExpert Witness / ConsultingTech Support - portal\, daily inspections\, or other non-training-relatedPay or Locate an InvoiceNationally Accredited Mobile Crane Operator License CoursesIn PersonHybrid - online course\, in person exams		\n			Nationally Accredited Phone\n			\n		\n		What in-person trainings are you interested in?Nationally Accredited Mobile Crane Operator License Classes (Live and Hybrid Options Available)Heavy Equipment Operator Safety (Live and Online Options Available)State Licensing Preparation (MA/RI/CT/NY)Heavy Equipment Inspection TrainingSignal Person / Basic Rigging ClassesOtherHeavy Equipment Operator Safety CoursesForkliftOverhead CraneBucket TruckMEWP / Personnel LiftInspector Certification OptionsHi Rail Gear Inspector CertificationBucket Truck Inspector Certification with DielectricMobile Crane Inspector CertificationStateMA - Continuing EducationMA - License PrepRI (online only: Mobile Crane or Excavator)CT (online only)NY (online only)Class TypeHosting a classSending an attendee to an open classPotentially open to eitherHow many attendees? *How can we assist you with online classes?Want to sign up for a classNeed the list of currently available classesI need to reset my password for the Moodle online learning platform. I'll try this link!I tried those links\, but didn't get what I needed - please help.I have other questionsI would like more info on NCCER Mobile Crane Online / In Person Hybrid ClassAttendance Optionsas an individualas a host companyEquipment to be inspected: *When do you need this inspection by?Equipment LocationMARICTNHMEVTNYotherother locationDo you want to give us a call right now?Yes :  please submit this form first\, and then call 1-866-788-7600It's after hours or I can't chat right now\, so I'll just hit submit and wait to hear back from you.Please describe the issue you're having and how our experts may be of assistance:Invoice #Amount owed\, if you knowWhen was the class or service this invoice is for?Please check any / all that apply to your situation:I'm an existing customer trying to log into the portal\, but I can't get inI want to log my daily inspections with your system and need helpI need help with my online classesIt's something elseAnything else?How did you hear about us?Online SearchI've used Cranes101 beforeProfessional OrganizationTrade ShowReferral from Personal Connection in the IndustrySocial MediaReceived a PostcardOtherAny details you can share about referral who/what/where?May we contact you (by email/phone/text) regarding this inquiry and other services that may be relevant to you? *Yes\, please do contact me.Submit
URL:https://cranes101.com/event/april27-april28-vehicle-mounted-aerial-lift-inspection-training-bucket-truck-inspection-with-dielectric-testing-bellingham-ma-public/
LOCATION:Pittsfield\, ME\, Pittsfield\, ME\, United States
CATEGORIES:Heavy Equipment Inspection
ATTACH;FMTTYPE=image/jpeg:https://cranes101.com/wp-content/uploads/2021/02/20210226_141548.jpg
END:VEVENT
BEGIN:VEVENT
DTSTART;TZID=America/New_York:20260430T080000
DTEND;TZID=America/New_York:20260501T150000
DTSTAMP:20260420T114300
CREATED:20260218T204047Z
LAST-MODIFIED:20260218T204047Z
UID:10000408-1777536000-1777647600@cranes101.com
SUMMARY:Vehicle Mounted Aerial Lift Inspection Training  (Bucket Truck Inspection with Dielectric Testing) - Bellingham MA - PUBLIC
DESCRIPTION:This 2 day course offers training on conducting dielectric tests on aerial devices to measure any potential conductivity on insulated components and is best designed for experienced operators and mechanics who are interested in becoming the on-site equipment inspectors for their company.  Host companies must provide a HiPot on site.  A garage or indoor space is also helpful in the event of wet weather conditions. \nThis course is designed to cover the latest revisions of all relevant government and industry standards (OSHA and ANSI/ASME) with regards to how they should be used during inspections and creating reports detailing any deficiencies & recommendations. \nMaterial covered includes: \n\nHow the OSHA and ASME Standards apply to dielectric testing\nDescribing aerial device components\nStep-by-step procedures on conducting dielectric tests using a HiPot\nInterpreting dielectric test results\nHands-on Training and practice.\n\n  \nApproximate Training Length (class size/weather may affect schedule) \nDay 1:  8:00 am- 3pm \nDay 2:  8:00am – 1pm \nCranes101 offers this course offsite and at our Bellingham location.  Please see our calendar to find a course near you if you are unable to host your own class. \nUse this form below to request more information. One of our staff will be in contact with you soon. \nPlease enable JavaScript in your browser to complete this form.Please enable JavaScript in your browser to complete this form.Contact Name *FirstLastBusiness Name *Email *Phone *Address *Address Line 1City--- Select state ---AlabamaAlaskaArizonaArkansasCaliforniaColoradoConnecticutDelawareDistrict of ColumbiaFloridaGeorgiaHawaiiIdahoIllinoisIndianaIowaKansasKentuckyLouisianaMaineMarylandMassachusettsMichiganMinnesotaMississippiMissouriMontanaNebraskaNevadaNew HampshireNew JerseyNew MexicoNew YorkNorth CarolinaNorth DakotaOhioOklahomaOregonPennsylvaniaRhode IslandSouth CarolinaSouth DakotaTennesseeTexasUtahVermontVirginiaWashingtonWest VirginiaWisconsinWyomingStateZip CodeWhat can we help you with? *Nationally Accredited Mobile Crane Operator License CoursesMA OPSI SafetyWorks Workplace Training GrantOnline Training (available for some\, but not all\, courses)In Person TrainingOSHA Compliant Annual InspectionsRepairsExpert Witness / ConsultingTech Support - portal\, daily inspections\, or other non-training-relatedPay or Locate an InvoiceNationally Accredited Mobile Crane Operator License CoursesIn PersonHybrid - online course\, in person examsWhat in-person trainings are you interested in?Nationally Accredited Mobile Crane Operator License Classes (Live and Hybrid Options Available)Heavy Equipment Operator Safety (Live and Online Options Available)State Licensing Preparation (MA/RI/CT/NY)Heavy Equipment Inspection TrainingSignal Person / Basic Rigging ClassesOtherHeavy Equipment Operator Safety CoursesForkliftOverhead CraneBucket TruckMEWP / Personnel LiftInspector Certification OptionsHi Rail Gear Inspector CertificationBucket Truck Inspector Certification with DielectricMobile Crane Inspector CertificationStateMA - Continuing EducationMA - License PrepRI (online only: Mobile Crane or Excavator)CT (online only)NY (online only)Class TypeHosting a classSending an attendee to an open classPotentially open to eitherHow many attendees? *How can we assist you with online classes?Want to sign up for a classNeed the list of currently available classesI need to reset my password for the Moodle online learning platform. I'll try this link!I tried those links\, but didn't get what I needed - please help.I have other questionsI would like more info on NCCER Mobile Crane Online / In Person Hybrid ClassAttendance Optionsas an individualas a host companyEquipment to be inspected: *When do you need this inspection by?Equipment LocationMARICTNHMEVTNYotherother locationDo you want to give us a call right now?Yes :  please submit this form first\, and then call 1-866-788-7600It's after hours or I can't chat right now\, so I'll just hit submit and wait to hear back from you.Please describe the issue you're having and how our experts may be of assistance:Invoice #Amount owed\, if you knowWhen was the class or service this invoice is for?Please check any / all that apply to your situation:I'm an existing customer trying to log into the portal\, but I can't get inI want to log my daily inspections with your system and need helpI need help with my online classesIt's something elseAnything else?How did you hear about us?Online SearchI've used Cranes101 beforeProfessional OrganizationTrade ShowReferral from Personal Connection in the IndustrySocial MediaReceived a PostcardOther		\n			License Amount Please\n			\n		\n		Any details you can share about referral who/what/where?May we contact you (by email/phone/text) regarding this inquiry and other services that may be relevant to you? *Yes\, please do contact me.Submit
URL:https://cranes101.com/event/april30-may1-vehicle-mounted-aerial-lift-inspection-training-bucket-truck-inspection-with-dielectric-testing-bellingham-ma-public/
LOCATION:Bellingham\, MA\, Bellingham\, MA\, United States
CATEGORIES:Heavy Equipment Inspection
ATTACH;FMTTYPE=image/jpeg:https://cranes101.com/wp-content/uploads/2021/02/20210226_141548.jpg
END:VEVENT
END:VCALENDAR