BEGIN:VCALENDAR
VERSION:2.0
PRODID:-//Cranes101 - ECPv6.15.20//NONSGML v1.0//EN
CALSCALE:GREGORIAN
METHOD:PUBLISH
X-WR-CALNAME:Cranes101
X-ORIGINAL-URL:https://cranes101.com
X-WR-CALDESC:Events for Cranes101
REFRESH-INTERVAL;VALUE=DURATION:PT1H
X-Robots-Tag:noindex
X-PUBLISHED-TTL:PT1H
BEGIN:VTIMEZONE
TZID:America/New_York
BEGIN:DAYLIGHT
TZOFFSETFROM:-0500
TZOFFSETTO:-0400
TZNAME:EDT
DTSTART:20250309T070000
END:DAYLIGHT
BEGIN:STANDARD
TZOFFSETFROM:-0400
TZOFFSETTO:-0500
TZNAME:EST
DTSTART:20251102T060000
END:STANDARD
BEGIN:DAYLIGHT
TZOFFSETFROM:-0500
TZOFFSETTO:-0400
TZNAME:EDT
DTSTART:20260308T070000
END:DAYLIGHT
BEGIN:STANDARD
TZOFFSETFROM:-0400
TZOFFSETTO:-0500
TZNAME:EST
DTSTART:20261101T060000
END:STANDARD
BEGIN:DAYLIGHT
TZOFFSETFROM:-0500
TZOFFSETTO:-0400
TZNAME:EDT
DTSTART:20270314T070000
END:DAYLIGHT
BEGIN:STANDARD
TZOFFSETFROM:-0400
TZOFFSETTO:-0500
TZNAME:EST
DTSTART:20271107T060000
END:STANDARD
END:VTIMEZONE
BEGIN:VEVENT
DTSTART;TZID=America/New_York:20261205T080000
DTEND;TZID=America/New_York:20261205T170000
DTSTAMP:20260420T185300
CREATED:20251218T200131Z
LAST-MODIFIED:20260120T195002Z
UID:10000358-1796457600-1796490000@cranes101.com
SUMMARY:MA Hoisting License Preparation/Continuing Education Courses - Bellingham\, MA - PUBLIC
DESCRIPTION:You are required to have a Hoisting Engineer license to operate any equipment that lifts over 10 ft in height\, over 500 lbs in weight or over 1/4 yard of bucket capacity in Massachusetts\, per the 230 CMR 6.00 law.  \nLicense Preparation:  Cranes101 offers these courses for our customers both at your location for groups (minimum charge applies) as well as monthly at our Bellingham location (Class 2 and Class 1 license prep) held on the Saturday before the state’s testing week – see calendar).  If holding a group class\, we suggest that all students needing licenses submit their applications at the same time so they get the same testing date.This course is designed to prepare the attendee for successful completion of the Hoisting Engineers’ license test.  Cranes101 recommends that before taking this hoisting license preparation course to be sure to apply for a test date and then schedule/ take the class closest to the test date.  The state’s exam schedule can be found here.   \nWhen planning your license prep course\, please be aware that it can take 4-8 weeks to get a testing date. \n  \nContinuing Education:  Once a Hoisting License has been obtained\, the holder must keep it active by participating in continuing education every 2 years.  This is a safety seminar that will earn the operator his/hers required CEUs.  These courses will allow you to renew your Massachusetts Hoisting Engineer License Cranes101 is an approved continuing education facility (HECE-000005)  We offer these courses to customers for group training (minimum charge applies) as well as online AND monthly at our Bellingham location for Class 1 and 2 license holders.   \nWe also offer License Prep and Continuing Education courses online at cranes101.com. The state of MA recently made some changes to their licensing program and standards (November 2025).  Cranes 101 will provide adjustments to our curriculum as needed.  \nTo self-register for any or all of the courses on this day\, you can now buy a ticket for your class! One of our staff will also follow up with you to ensure you’re all set.
URL:https://cranes101.com/event/dec5-ma-hoisting-license-preparation-continuing-education-courses-bellingham-ma-public/
LOCATION:Bellingham\, MA\, Bellingham\, MA\, United States
CATEGORIES:MA Licensing Prep and Continuing Education
ATTACH;FMTTYPE=image/jpeg:https://cranes101.com/wp-content/uploads/2025/07/massachusetts-CRANE-SAFETY-osha-training-national-certification.jpg
END:VEVENT
END:VCALENDAR