BEGIN:VCALENDAR
VERSION:2.0
PRODID:-//Cranes101 - ECPv6.15.20//NONSGML v1.0//EN
CALSCALE:GREGORIAN
METHOD:PUBLISH
X-ORIGINAL-URL:https://cranes101.com
X-WR-CALDESC:Events for Cranes101
REFRESH-INTERVAL;VALUE=DURATION:PT1H
X-Robots-Tag:noindex
X-PUBLISHED-TTL:PT1H
BEGIN:VTIMEZONE
TZID:America/New_York
BEGIN:DAYLIGHT
TZOFFSETFROM:-0500
TZOFFSETTO:-0400
TZNAME:EDT
DTSTART:20250309T070000
END:DAYLIGHT
BEGIN:STANDARD
TZOFFSETFROM:-0400
TZOFFSETTO:-0500
TZNAME:EST
DTSTART:20251102T060000
END:STANDARD
BEGIN:DAYLIGHT
TZOFFSETFROM:-0500
TZOFFSETTO:-0400
TZNAME:EDT
DTSTART:20260308T070000
END:DAYLIGHT
BEGIN:STANDARD
TZOFFSETFROM:-0400
TZOFFSETTO:-0500
TZNAME:EST
DTSTART:20261101T060000
END:STANDARD
BEGIN:DAYLIGHT
TZOFFSETFROM:-0500
TZOFFSETTO:-0400
TZNAME:EDT
DTSTART:20270314T070000
END:DAYLIGHT
BEGIN:STANDARD
TZOFFSETFROM:-0400
TZOFFSETTO:-0500
TZNAME:EST
DTSTART:20271107T060000
END:STANDARD
END:VTIMEZONE
BEGIN:VEVENT
DTSTART;TZID=America/New_York:20260530T080000
DTEND;TZID=America/New_York:20260530T170000
DTSTAMP:20260420T104658
CREATED:20251216T194744Z
LAST-MODIFIED:20251216T194744Z
UID:10000346-1780128000-1780160400@cranes101.com
SUMMARY:MA Hoisting License Preparation AND Continuing Education - Bellingham\, MA - PUBLIC
DESCRIPTION:Call 508-966-4100 to register for this class \nYou are required to have a Hoisting Engineer license to operate any equipment that lifts over 10 ft in height\, over 500 lbs in weight or over 1/4 yard of bucket capacity in Massachusetts\, per the 230 CMR 6.00 law.  \n  \nLicense Preparation:  Cranes101 offers these courses for our customers both at your location for groups (minimum charge applies) as well as monthly at our Bellingham location (Class 2 and Class 1 license prep) held on the Saturday before the state’s testing week – see calendar).  If holding a group class\, we suggest that all students needing licenses submit their applications at the same time so they get the same testing date.This course is designed to prepare the attendee for successful completion of the Hoisting Engineers’ license test.  Cranes101 recommends that before taking this hoisting license preparation course to be sure to apply for a test date and then schedule/ take the class closest to the test date.  The state’s exam schedule can be found here.   \nWhen planning your license prep course\, please be aware that it can take 4-8 weeks to get a testing date. \n  \nContinuing Education:  Once a Hoisting License has been obtained\, the holder must keep it active by participating in continuing education every 2 years.  This is a safety seminar that will earn the operator his/hers required CEUs.  These courses will allow you to renew your Massachusetts Hoisting Engineer License Cranes101 is an approved continuing education facility (HECE-000005)  We offer these courses to customers for group training (minimum charge applies) as well as online AND monthly at our Bellingham location for Class 1 and 2 license holders.   \nWe also offer License Prep and Continuing Education courses online at cranes101.com. The state of MA recently made some changes to their licensing program and standards (November 2025).  Cranes 101 will provide adjustments to our curriculum as needed.  \nUse this form below to request more information on attending one of our monthly open classes or to host a class at your location. One of our staff will be in contact with you soon. \nPlease enable JavaScript in your browser to complete this form.Please enable JavaScript in your browser to complete this form.Contact Name *FirstLastBusiness Name *Email *Phone *Address *Address Line 1City--- Select state ---AlabamaAlaskaArizonaArkansasCaliforniaColoradoConnecticutDelawareDistrict of ColumbiaFloridaGeorgiaHawaiiIdahoIllinoisIndianaIowaKansasKentuckyLouisianaMaineMarylandMassachusettsMichiganMinnesotaMississippiMissouriMontanaNebraskaNevadaNew HampshireNew JerseyNew MexicoNew YorkNorth CarolinaNorth DakotaOhioOklahomaOregonPennsylvaniaRhode IslandSouth CarolinaSouth DakotaTennesseeTexasUtahVermontVirginiaWashingtonWest VirginiaWisconsinWyomingStateZip CodeWhat can we help you with? *Nationally Accredited Mobile Crane Operator License CoursesMA OPSI SafetyWorks Workplace Training GrantOnline Training (available for some\, but not all\, courses)In Person TrainingOSHA Compliant Annual InspectionsRepairsExpert Witness / ConsultingTech Support - portal\, daily inspections\, or other non-training-relatedPay or Locate an InvoiceNationally Accredited Mobile Crane Operator License CoursesIn PersonHybrid - online course\, in person examsWhat in-person trainings are you interested in?Nationally Accredited Mobile Crane Operator License Classes (Live and Hybrid Options Available)Heavy Equipment Operator Safety (Live and Online Options Available)State Licensing Preparation (MA/RI/CT/NY)Heavy Equipment Inspection TrainingSignal Person / Basic Rigging ClassesOtherHeavy Equipment Operator Safety CoursesForkliftOverhead CraneBucket TruckMEWP / Personnel LiftInspector Certification OptionsHi Rail Gear Inspector CertificationBucket Truck Inspector Certification with DielectricMobile Crane Inspector CertificationStateMA - Continuing EducationMA - License PrepRI (online only: Mobile Crane or Excavator)CT (online only)NY (online only)Class TypeHosting a classSending an attendee to an open classPotentially open to eitherHow many attendees? *How can we assist you with online classes?Want to sign up for a classNeed the list of currently available classesI need to reset my password for the Moodle online learning platform. I'll try this link!I tried those links\, but didn't get what I needed - please help.I have other questionsI would like more info on NCCER Mobile Crane Online / In Person Hybrid Class		\n			you us? is\n			\n		\n		Attendance Optionsas an individualas a host companyEquipment to be inspected: *When do you need this inspection by?Equipment LocationMARICTNHMEVTNYotherother locationDo you want to give us a call right now?Yes :  please submit this form first\, and then call 1-866-788-7600It's after hours or I can't chat right now\, so I'll just hit submit and wait to hear back from you.Please describe the issue you're having and how our experts may be of assistance:Invoice #Amount owed\, if you knowWhen was the class or service this invoice is for?Please check any / all that apply to your situation:I'm an existing customer trying to log into the portal\, but I can't get inI want to log my daily inspections with your system and need helpI need help with my online classesIt's something elseAnything else?How did you hear about us?Online SearchI've used Cranes101 beforeProfessional OrganizationTrade ShowReferral from Personal Connection in the IndustrySocial MediaReceived a PostcardOtherAny details you can share about referral who/what/where?May we contact you (by email/phone/text) regarding this inquiry and other services that may be relevant to you? *Yes\, please do contact me.Submit   \n  \nClass 2’s begin at 8am \nClass 1’s begin at 12pm \nCranes101 provides snacks\, drinks and coffee in the training room  Pizza is delivered around 11:30 for those leaving the am session\, arriving for the pm session or those who are trapped all day!
URL:https://cranes101.com/event/may-30-ma-hoisting-license-preparation-and-continuing-education-bellingham-ma-public/
LOCATION:Bellingham\, MA\, Bellingham\, MA\, United States
CATEGORIES:MA Licensing Prep and Continuing Education
ATTACH;FMTTYPE=image/jpeg:https://cranes101.com/wp-content/uploads/2025/07/massachusetts-CRANE-SAFETY-osha-training-national-certification.jpg
END:VEVENT
END:VCALENDAR