BEGIN:VCALENDAR
VERSION:2.0
PRODID:-//Cranes101 - ECPv6.15.20//NONSGML v1.0//EN
CALSCALE:GREGORIAN
METHOD:PUBLISH
X-WR-CALNAME:Cranes101
X-ORIGINAL-URL:https://cranes101.com
X-WR-CALDESC:Events for Cranes101
REFRESH-INTERVAL;VALUE=DURATION:PT1H
X-Robots-Tag:noindex
X-PUBLISHED-TTL:PT1H
BEGIN:VTIMEZONE
TZID:America/New_York
BEGIN:DAYLIGHT
TZOFFSETFROM:-0500
TZOFFSETTO:-0400
TZNAME:EDT
DTSTART:20200308T070000
END:DAYLIGHT
BEGIN:STANDARD
TZOFFSETFROM:-0400
TZOFFSETTO:-0500
TZNAME:EST
DTSTART:20201101T060000
END:STANDARD
BEGIN:DAYLIGHT
TZOFFSETFROM:-0500
TZOFFSETTO:-0400
TZNAME:EDT
DTSTART:20210314T070000
END:DAYLIGHT
BEGIN:STANDARD
TZOFFSETFROM:-0400
TZOFFSETTO:-0500
TZNAME:EST
DTSTART:20211107T060000
END:STANDARD
BEGIN:DAYLIGHT
TZOFFSETFROM:-0500
TZOFFSETTO:-0400
TZNAME:EDT
DTSTART:20220313T070000
END:DAYLIGHT
BEGIN:STANDARD
TZOFFSETFROM:-0400
TZOFFSETTO:-0500
TZNAME:EST
DTSTART:20221106T060000
END:STANDARD
BEGIN:DAYLIGHT
TZOFFSETFROM:-0500
TZOFFSETTO:-0400
TZNAME:EDT
DTSTART:20230312T070000
END:DAYLIGHT
BEGIN:STANDARD
TZOFFSETFROM:-0400
TZOFFSETTO:-0500
TZNAME:EST
DTSTART:20231105T060000
END:STANDARD
BEGIN:DAYLIGHT
TZOFFSETFROM:-0500
TZOFFSETTO:-0400
TZNAME:EDT
DTSTART:20240310T070000
END:DAYLIGHT
BEGIN:STANDARD
TZOFFSETFROM:-0400
TZOFFSETTO:-0500
TZNAME:EST
DTSTART:20241103T060000
END:STANDARD
BEGIN:DAYLIGHT
TZOFFSETFROM:-0500
TZOFFSETTO:-0400
TZNAME:EDT
DTSTART:20250309T070000
END:DAYLIGHT
BEGIN:STANDARD
TZOFFSETFROM:-0400
TZOFFSETTO:-0500
TZNAME:EST
DTSTART:20251102T060000
END:STANDARD
BEGIN:DAYLIGHT
TZOFFSETFROM:-0500
TZOFFSETTO:-0400
TZNAME:EDT
DTSTART:20260308T070000
END:DAYLIGHT
BEGIN:STANDARD
TZOFFSETFROM:-0400
TZOFFSETTO:-0500
TZNAME:EST
DTSTART:20261101T060000
END:STANDARD
END:VTIMEZONE
BEGIN:VEVENT
DTSTART;TZID=America/New_York:20250109T080000
DTEND;TZID=America/New_York:20250109T140000
DTSTAMP:20260421T035228
CREATED:20241219T205551Z
LAST-MODIFIED:20241219T205551Z
UID:10000017-1736409600-1736431200@cranes101.com
SUMMARY:Signal Person with Basic Rigger Training  - Vermont Electric - CLOSED
DESCRIPTION:This live signalperson/basic rigger certification course covers: \n\nRigging component identification\nMathematical calculations\nSling selection\nRigging inspection\nWire rope and chain design\nProper rigging techniques\n\nProper use of the ANSI hand signals\nCrane limitations\nCrane characteristics and dynamics\nSignalperson requirements per OSHA 1926.1419-1926.1422\nWorking near power lines\nVoice signals \n\nThis training meets the requirements mandated in OSHA 1926.1419 through \n1926.1422 and 1926.1428\, and ANSI/ASME B30 standards. \nFor more information as to the content of this class\, please view the descriptions here. \nTraining Length: \n\n4 to 6 hour course\n\nParticipants will receive a card certifying that they have successfully completed this training that they should carry on the job-site. \nUse this form below to request more information about our signalperson/rigger course. One of our staff will be in contact with you soon. 
URL:https://cranes101.com/event/jan9-signal-person-with-basic-rigger-training-vermont-electric-closed/
LOCATION:Rhode Island
CATEGORIES:Construction Courses,Industrial Courses
END:VEVENT
BEGIN:VEVENT
DTSTART;TZID=America/New_York:20250109T080000
DTEND;TZID=America/New_York:20250109T140000
DTSTAMP:20260421T035228
CREATED:20241219T205551Z
LAST-MODIFIED:20241219T205551Z
UID:10000136-1736409600-1736431200@cranes101.com
SUMMARY:Signal Person with Basic Rigger Training  - Vermont Electric - CLOSED
DESCRIPTION:This live signalperson/basic rigger certification course covers: \n\nRigging component identification\nMathematical calculations\nSling selection\nRigging inspection\nWire rope and chain design\nProper rigging techniques\n\nProper use of the ANSI hand signals\nCrane limitations\nCrane characteristics and dynamics\nSignalperson requirements per OSHA 1926.1419-1926.1422\nWorking near power lines\nVoice signals \n\nThis training meets the requirements mandated in OSHA 1926.1419 through \n1926.1422 and 1926.1428\, and ANSI/ASME B30 standards. \nFor more information as to the content of this class\, please view the descriptions here. \nTraining Length: \n\n4 to 6 hour course\n\nParticipants will receive a card certifying that they have successfully completed this training that they should carry on the job-site. \nUse this form below to request more information about our signalperson/rigger course. One of our staff will be in contact with you soon. 
URL:https://cranes101.com/event/jan9-signal-person-with-basic-rigger-training-vermont-electric-closed-2/
LOCATION:Rhode Island
CATEGORIES:Construction Courses,Industrial Courses
END:VEVENT
BEGIN:VEVENT
DTSTART;TZID=America/New_York:20250108T080000
DTEND;TZID=America/New_York:20250110T160000
DTSTAMP:20260421T035228
CREATED:20241113T204029Z
LAST-MODIFIED:20241113T204029Z
UID:10000012-1736323200-1736524800@cranes101.com
SUMMARY:Mobile Crane Nationally Accredited Certification Program - National Grid - Liverpool NY - CLOSED
DESCRIPTION:These all mobile crane nationally accredited certificate courses are NCCER/OSHA/ANSI approved programs for licensing crane operators. Crane operators must be licensed to operate per OSHA Subpart CC.  \nFor more information as to the content of this class\, please view the descriptions here. The list below shows the types of cranes this course can cover\, depending on what the students operate on the job. Please specify what type of crane you will be operating when you pre-register\, if possible. \n\nFixed/rotating boom trucks\nTelescopic boom truck/rough terrain crane/all terrain crane\nLattice boom cranes\n\nTCIA Members save 10% and will earn 21 CTSP CEU’s when the course is completed. \nIf you are a member of the ISA\, our training is certified for the following: \n\n8 Practice \n8 Management \n16 Climber Specialist\n16 Certified Arborist\n16 Utility Specialist\n16 Municipal Specialist – 16 Aerial Lift\n\nTraining Length: \nDay One  \n\nClassroom instruction on crane operator safety\n\nDay Two* \n\nClassroom instruction in the morning – Testing (written and/or practical exams) begins after lunch\n\nDay Three* \n\nRemaining Exams (written and/or practical)\n\n*Exam schedule may vary based on class size\, weather and practical examiner/proctor availability. \nBoth the written and the practical examinations must be passed with a score of 80 or higher before a nationally accredited crane operator license can be granted. \n  \nThis class is closed/full. To request information about hosting a class similar to this one\, please complete this form below and one of our staff will be in contact with you soon.  \n 
URL:https://cranes101.com/event/jan8-jan9-jan10-mobile-crane-nationally-accredited-certification-program-national-grid-liverpool-ny-closed/
LOCATION:Rhode Island
CATEGORIES:Crane Operator Certification,Nationally Accredited
END:VEVENT
BEGIN:VEVENT
DTSTART;TZID=America/New_York:20250108T080000
DTEND;TZID=America/New_York:20250110T160000
DTSTAMP:20260421T035228
CREATED:20241113T204029Z
LAST-MODIFIED:20241113T204029Z
UID:10000131-1736323200-1736524800@cranes101.com
SUMMARY:Mobile Crane Nationally Accredited Certification Program - National Grid - Liverpool NY - CLOSED
DESCRIPTION:These all mobile crane nationally accredited certificate courses are NCCER/OSHA/ANSI approved programs for licensing crane operators. Crane operators must be licensed to operate per OSHA Subpart CC.  \nFor more information as to the content of this class\, please view the descriptions here. The list below shows the types of cranes this course can cover\, depending on what the students operate on the job. Please specify what type of crane you will be operating when you pre-register\, if possible. \n\nFixed/rotating boom trucks\nTelescopic boom truck/rough terrain crane/all terrain crane\nLattice boom cranes\n\nTCIA Members save 10% and will earn 21 CTSP CEU’s when the course is completed. \nIf you are a member of the ISA\, our training is certified for the following: \n\n8 Practice \n8 Management \n16 Climber Specialist\n16 Certified Arborist\n16 Utility Specialist\n16 Municipal Specialist – 16 Aerial Lift\n\nTraining Length: \nDay One  \n\nClassroom instruction on crane operator safety\n\nDay Two* \n\nClassroom instruction in the morning – Testing (written and/or practical exams) begins after lunch\n\nDay Three* \n\nRemaining Exams (written and/or practical)\n\n*Exam schedule may vary based on class size\, weather and practical examiner/proctor availability. \nBoth the written and the practical examinations must be passed with a score of 80 or higher before a nationally accredited crane operator license can be granted. \n  \nThis class is closed/full. To request information about hosting a class similar to this one\, please complete this form below and one of our staff will be in contact with you soon.  \n 
URL:https://cranes101.com/event/jan8-jan9-jan10-mobile-crane-nationally-accredited-certification-program-national-grid-liverpool-ny-closed-2/
LOCATION:Rhode Island
CATEGORIES:Crane Operator Certification,Nationally Accredited
END:VEVENT
BEGIN:VEVENT
DTSTART;TZID=America/New_York:20250108T080000
DTEND;TZID=America/New_York:20250108T140000
DTSTAMP:20260421T035229
CREATED:20241219T205647Z
LAST-MODIFIED:20241219T205647Z
UID:10000018-1736323200-1736344800@cranes101.com
SUMMARY:Signal Person with Basic Rigger Training - Vermont Electric - CLOSED
DESCRIPTION:This live signalperson/basic rigger certification course covers: \n\nRigging component identification\nMathematical calculations\nSling selection\nRigging inspection\nWire rope and chain design\nProper rigging techniques\n\nProper use of the ANSI hand signals\nCrane limitations\nCrane characteristics and dynamics\nSignalperson requirements per OSHA 1926.1419-1926.1422\nWorking near power lines\nVoice signals \n\nThis training meets the requirements mandated in OSHA 1926.1419 through \n1926.1422 and 1926.1428\, and ANSI/ASME B30 standards. \nFor more information as to the content of this class\, please view the descriptions here. \nTraining Length: \n\n4 to 6 hour course\n\nParticipants will receive a card certifying that they have successfully completed this training that they should carry on the job-site. \nUse this form below to request more information about our signalperson/rigger course. One of our staff will be in contact with you soon. 
URL:https://cranes101.com/event/jan8-signal-person-with-basic-rigger-training-vermont-electric-closed/
LOCATION:Rhode Island
CATEGORIES:Construction Courses,Industrial Courses
END:VEVENT
BEGIN:VEVENT
DTSTART;TZID=America/New_York:20250108T080000
DTEND;TZID=America/New_York:20250108T140000
DTSTAMP:20260421T035229
CREATED:20241219T205647Z
LAST-MODIFIED:20241219T205647Z
UID:10000137-1736323200-1736344800@cranes101.com
SUMMARY:Signal Person with Basic Rigger Training - Vermont Electric - CLOSED
DESCRIPTION:This live signalperson/basic rigger certification course covers: \n\nRigging component identification\nMathematical calculations\nSling selection\nRigging inspection\nWire rope and chain design\nProper rigging techniques\n\nProper use of the ANSI hand signals\nCrane limitations\nCrane characteristics and dynamics\nSignalperson requirements per OSHA 1926.1419-1926.1422\nWorking near power lines\nVoice signals \n\nThis training meets the requirements mandated in OSHA 1926.1419 through \n1926.1422 and 1926.1428\, and ANSI/ASME B30 standards. \nFor more information as to the content of this class\, please view the descriptions here. \nTraining Length: \n\n4 to 6 hour course\n\nParticipants will receive a card certifying that they have successfully completed this training that they should carry on the job-site. \nUse this form below to request more information about our signalperson/rigger course. One of our staff will be in contact with you soon. 
URL:https://cranes101.com/event/jan8-signal-person-with-basic-rigger-training-vermont-electric-closed-2/
LOCATION:Rhode Island
CATEGORIES:Construction Courses,Industrial Courses
END:VEVENT
BEGIN:VEVENT
DTSTART;TZID=America/New_York:20250106T080000
DTEND;TZID=America/New_York:20250109T160000
DTSTAMP:20260421T035229
CREATED:20241219T205337Z
LAST-MODIFIED:20241219T205337Z
UID:10000016-1736150400-1736438400@cranes101.com
SUMMARY:Mobile Crane Nationally Accredited Certification Program - Vermont Electric - CLOSED
DESCRIPTION:These all mobile crane nationally accredited certificate courses are NCCER/OSHA/ANSI approved programs for licensing crane operators. Crane operators must be licensed to operate per OSHA Subpart CC.  \nFor more information as to the content of this class\, please view the descriptions here. The list below shows the types of cranes this course can cover\, depending on what the students operate on the job. Please specify what type of crane you will be operating when you pre-register\, if possible. \n\nFixed/rotating boom trucks\nTelescopic boom truck/rough terrain crane/all terrain crane\nLattice boom cranes\n\nTCIA Members save 10% and will earn 21 CTSP CEU’s when the course is completed. \nIf you are a member of the ISA\, our training is certified for the following: \n\n8 Practice \n8 Management \n16 Climber Specialist\n16 Certified Arborist\n16 Utility Specialist\n16 Municipal Specialist – 16 Aerial Lift\n\nTraining Length: \nDay One  \n\nClassroom instruction on crane operator safety\n\nDay Two* \n\nClassroom instruction in the morning – Testing (written and/or practical exams) begins after lunch\n\nDay Three* \n\nRemaining Exams (written and/or practical)\n\n*Exam schedule may vary based on class size\, weather and practical examiner/proctor availability. \nBoth the written and the practical examinations must be passed with a score of 80 or higher before a nationally accredited crane operator license can be granted. \n  \nThis class is closed/full. To request information about hosting a class similar to this one\, please complete this form below and one of our staff will be in contact with you soon. 
URL:https://cranes101.com/event/jan6-jan7-jan8-jan9-mobile-crane-nationally-accredited-certification-program/
LOCATION:Rhode Island
CATEGORIES:Crane Operator Certification,Nationally Accredited
END:VEVENT
BEGIN:VEVENT
DTSTART;TZID=America/New_York:20250106T080000
DTEND;TZID=America/New_York:20250109T160000
DTSTAMP:20260421T035229
CREATED:20241219T205337Z
LAST-MODIFIED:20241219T205337Z
UID:10000135-1736150400-1736438400@cranes101.com
SUMMARY:Mobile Crane Nationally Accredited Certification Program - Vermont Electric - CLOSED
DESCRIPTION:These all mobile crane nationally accredited certificate courses are NCCER/OSHA/ANSI approved programs for licensing crane operators. Crane operators must be licensed to operate per OSHA Subpart CC.  \nFor more information as to the content of this class\, please view the descriptions here. The list below shows the types of cranes this course can cover\, depending on what the students operate on the job. Please specify what type of crane you will be operating when you pre-register\, if possible. \n\nFixed/rotating boom trucks\nTelescopic boom truck/rough terrain crane/all terrain crane\nLattice boom cranes\n\nTCIA Members save 10% and will earn 21 CTSP CEU’s when the course is completed. \nIf you are a member of the ISA\, our training is certified for the following: \n\n8 Practice \n8 Management \n16 Climber Specialist\n16 Certified Arborist\n16 Utility Specialist\n16 Municipal Specialist – 16 Aerial Lift\n\nTraining Length: \nDay One  \n\nClassroom instruction on crane operator safety\n\nDay Two* \n\nClassroom instruction in the morning – Testing (written and/or practical exams) begins after lunch\n\nDay Three* \n\nRemaining Exams (written and/or practical)\n\n*Exam schedule may vary based on class size\, weather and practical examiner/proctor availability. \nBoth the written and the practical examinations must be passed with a score of 80 or higher before a nationally accredited crane operator license can be granted. \n  \nThis class is closed/full. To request information about hosting a class similar to this one\, please complete this form below and one of our staff will be in contact with you soon. 
URL:https://cranes101.com/event/jan6-jan7-jan8-jan9-mobile-crane-nationally-accredited-certification-program-2/
LOCATION:Rhode Island
CATEGORIES:Crane Operator Certification,Nationally Accredited
END:VEVENT
BEGIN:VEVENT
DTSTART;TZID=America/New_York:20250103T080000
DTEND;TZID=America/New_York:20250103T140000
DTSTAMP:20260421T035229
CREATED:20250116T125230Z
LAST-MODIFIED:20250116T125230Z
UID:10000030-1735891200-1735912800@cranes101.com
SUMMARY:Signal Person with Basic Rigger Training - Timberline Communications - CLOSED
DESCRIPTION:  \n \nThis live signalperson/basic rigger certification course covers: \n\nRigging component identification\nMathematical calculations\nSling selection\nRigging inspection\nWire rope and chain design\nProper rigging techniques\n\nProper use of the ANSI hand signals\nCrane limitations\nCrane characteristics and dynamics\nSignalperson requirements per OSHA 1926.1419-1926.1422\nWorking near power lines\nVoice signals \n\nThis training meets the requirements mandated in OSHA 1926.1419 through \n1926.1422 and 1926.1428\, and ANSI/ASME B30 standards. \nFor more information as to the content of this class\, please view the descriptions here. \nTraining Length: \n\n4 to 6 hour course\n\nParticipants will receive a card certifying that they have successfully completed this training that they should carry on the job-site. \nUse this form below to request more information about our signalperson/rigger course. One of our staff will be in contact with you soon. 
URL:https://cranes101.com/event/jan3-signal-person-with-basic-rigger-training-timberline-communications-closed/
LOCATION:Rhode Island
CATEGORIES:Construction Courses,Industrial Courses
END:VEVENT
BEGIN:VEVENT
DTSTART;TZID=America/New_York:20250103T080000
DTEND;TZID=America/New_York:20250103T140000
DTSTAMP:20260421T035229
CREATED:20250116T125230Z
LAST-MODIFIED:20250116T125230Z
UID:10000149-1735891200-1735912800@cranes101.com
SUMMARY:Signal Person with Basic Rigger Training - Timberline Communications - CLOSED
DESCRIPTION:  \n \nThis live signalperson/basic rigger certification course covers: \n\nRigging component identification\nMathematical calculations\nSling selection\nRigging inspection\nWire rope and chain design\nProper rigging techniques\n\nProper use of the ANSI hand signals\nCrane limitations\nCrane characteristics and dynamics\nSignalperson requirements per OSHA 1926.1419-1926.1422\nWorking near power lines\nVoice signals \n\nThis training meets the requirements mandated in OSHA 1926.1419 through \n1926.1422 and 1926.1428\, and ANSI/ASME B30 standards. \nFor more information as to the content of this class\, please view the descriptions here. \nTraining Length: \n\n4 to 6 hour course\n\nParticipants will receive a card certifying that they have successfully completed this training that they should carry on the job-site. \nUse this form below to request more information about our signalperson/rigger course. One of our staff will be in contact with you soon. 
URL:https://cranes101.com/event/jan3-signal-person-with-basic-rigger-training-timberline-communications-closed-2/
LOCATION:Rhode Island
CATEGORIES:Construction Courses,Industrial Courses
END:VEVENT
BEGIN:VEVENT
DTSTART;TZID=America/New_York:20210621T080000
DTEND;TZID=America/New_York:20210624T160000
DTSTAMP:20260421T035229
CREATED:20210422T172352Z
LAST-MODIFIED:20260204T153701Z
UID:10000001-1624262400-1624550400@cranes101.com
SUMMARY:Customized 4 day Class - Mobile Crane Nationally Accredited Certificate Program - MAINE DOT - Augusta\, ME - CLOSED
DESCRIPTION:These all mobile crane nationally accredited certificate courses are NCCER/OSHA/ANSI approved programs for licensing crane operators. Crane operators must be licensed to operate per OSHA Subpart CC.  \nFor more information as to the content of this class\, please view the descriptions here. The list below shows the types of cranes this course can cover\, depending on what the students operate on the job. Please specify what type of crane you will be operating when you pre-register\, if possible. \n\nFixed/rotating boom trucks\nTelescopic boom truck/rough terrain crane/all terrain crane\nLattice boom cranes\n\nTCIA Members save 10% and will earn 21CTSP CEU’s when the course is completed. \nIf you are a member of the ISA\, our training is certified for the following: \n8 Practice – 8 Management  – 16 Climber Specialist \n16 Certified Arborist – 16 Utility Specialist \n16 Municipal Specialist – 16 Aerial Lift \n  \nTraining Length: \nDay One  \n\nClassroom instruction on crane operator safety\n\nDay Two \n\nClassroom instruction on crane operator safety followed by practical exams for seasoned operators\n\nDay Three \n\nReview followed by written exam for all; basic crane training for new operators\n\nDay Four \n\nPractical exam review and prep followed by practical exams for new operators\n\n  \nBoth the written and the practical examinations must be passed with a score of 80 or higher before a nationally accredited crane operator license can be granted. \nUse this form below to request more information. One of our staff will be in contact with you soon. 
URL:https://cranes101.com/event/june21-june22-june23-june24-tentative-customized-4-day-class-mobile-crane-nationally-accredited-certificate-program-maine-dot-augusta-me-closed-2021-06-21-2/2021-06-21/
LOCATION:Rhode Island
CATEGORIES:Nationally Accredited
END:VEVENT
BEGIN:VEVENT
DTSTART;TZID=America/New_York:20210621T080000
DTEND;TZID=America/New_York:20210624T160000
DTSTAMP:20260421T035229
CREATED:20210422T172352Z
LAST-MODIFIED:20210422T172352Z
UID:10000120-1624262400-1624550400@cranes101.com
SUMMARY:Customized 4 day Class - Mobile Crane Nationally Accredited Certificate Program - MAINE DOT - Augusta\, ME - CLOSED
DESCRIPTION:These all mobile crane nationally accredited certificate courses are NCCER/OSHA/ANSI approved programs for licensing crane operators. Crane operators must be licensed to operate per OSHA Subpart CC.  \nFor more information as to the content of this class\, please view the descriptions here. The list below shows the types of cranes this course can cover\, depending on what the students operate on the job. Please specify what type of crane you will be operating when you pre-register\, if possible. \n\nFixed/rotating boom trucks\nTelescopic boom truck/rough terrain crane/all terrain crane\nLattice boom cranes\n\nTCIA Members save 10% and will earn 21CTSP CEU’s when the course is completed. \nIf you are a member of the ISA\, our training is certified for the following: \n8 Practice – 8 Management  – 16 Climber Specialist \n16 Certified Arborist – 16 Utility Specialist \n16 Municipal Specialist – 16 Aerial Lift \n  \nTraining Length: \nDay One  \n\nClassroom instruction on crane operator safety\n\nDay Two \n\nClassroom instruction on crane operator safety followed by practical exams for seasoned operators\n\nDay Three \n\nReview followed by written exam for all; basic crane training for new operators\n\nDay Four \n\nPractical exam review and prep followed by practical exams for new operators\n\n  \nBoth the written and the practical examinations must be passed with a score of 80 or higher before a nationally accredited crane operator license can be granted. \nUse this form below to request more information. One of our staff will be in contact with you soon. 
URL:https://cranes101.com/event/june21-june22-june23-june24-tentative-customized-4-day-class-mobile-crane-nationally-accredited-certificate-program-maine-dot-augusta-me-closed-2021-06-21-2/2021-06-21/
LOCATION:Rhode Island
CATEGORIES:Nationally Accredited
END:VEVENT
END:VCALENDAR