BEGIN:VCALENDAR
VERSION:2.0
PRODID:-//Cranes101 - ECPv6.15.20//NONSGML v1.0//EN
CALSCALE:GREGORIAN
METHOD:PUBLISH
X-ORIGINAL-URL:https://cranes101.com
X-WR-CALDESC:Events for Cranes101
REFRESH-INTERVAL;VALUE=DURATION:PT1H
X-Robots-Tag:noindex
X-PUBLISHED-TTL:PT1H
BEGIN:VTIMEZONE
TZID:America/New_York
BEGIN:DAYLIGHT
TZOFFSETFROM:-0500
TZOFFSETTO:-0400
TZNAME:EDT
DTSTART:20240310T070000
END:DAYLIGHT
BEGIN:STANDARD
TZOFFSETFROM:-0400
TZOFFSETTO:-0500
TZNAME:EST
DTSTART:20241103T060000
END:STANDARD
BEGIN:DAYLIGHT
TZOFFSETFROM:-0500
TZOFFSETTO:-0400
TZNAME:EDT
DTSTART:20250309T070000
END:DAYLIGHT
BEGIN:STANDARD
TZOFFSETFROM:-0400
TZOFFSETTO:-0500
TZNAME:EST
DTSTART:20251102T060000
END:STANDARD
BEGIN:DAYLIGHT
TZOFFSETFROM:-0500
TZOFFSETTO:-0400
TZNAME:EDT
DTSTART:20260308T070000
END:DAYLIGHT
BEGIN:STANDARD
TZOFFSETFROM:-0400
TZOFFSETTO:-0500
TZNAME:EST
DTSTART:20261101T060000
END:STANDARD
END:VTIMEZONE
BEGIN:VEVENT
DTSTART;TZID=America/New_York:20250429T080000
DTEND;TZID=America/New_York:20250501T160000
DTSTAMP:20260420T073932
CREATED:20250403T123304Z
LAST-MODIFIED:20250403T123304Z
UID:10000226-1745913600-1746115200@cranes101.com
SUMMARY:Tentative - Mobile Crane Nationally Accredited Certification Program - Central Hudson - CLOSED
DESCRIPTION:These all mobile crane nationally accredited certificate courses are NCCER/OSHA/ANSI approved programs for licensing crane operators. Crane operators must be licensed to operate per OSHA Subpart CC.  \nFor more information as to the content of this class\, please view the descriptions here. The list below shows the types of cranes this course can cover\, depending on what the students operate on the job. Please specify what type of crane you will be operating when you pre-register\, if possible. \n\nFixed/rotating boom trucks\nTelescopic boom truck/rough terrain crane/all terrain crane\nLattice boom cranes\n\nTCIA Members save 10% and will earn 21 CTSP CEU’s when the course is completed. \nIf you are a member of the ISA\, our training is certified for the following: \n\n8 Practice \n8 Management \n16 Climber Specialist\n16 Certified Arborist\n16 Utility Specialist\n16 Municipal Specialist – 16 Aerial Lift\n\nTraining Length: \nDay One  \n\nClassroom instruction on crane operator safety\n\nDay Two* \n\nClassroom instruction in the morning – Testing (written and/or practical exams) begins after lunch\n\nDay Three* \n\nRemaining Exams (written and/or practical)\n\n*Exam schedule may vary based on class size\, weather and practical examiner/proctor availability. \nBoth the written and the practical examinations must be passed with a score of 80 or higher before a nationally accredited crane operator license can be granted. \n  \nThis class is closed/full. To request information about hosting a class similar to this one\, please complete this form below and one of our staff will be in contact with you soon.  \n  \n 
URL:https://cranes101.com/event/april29-april30-may1-tentative-mobile-crane-nationally-accredited-certification-program-central-hudson-closed-2/
LOCATION:Connecticut
CATEGORIES:Crane Operator Certification,Nationally Accredited
END:VEVENT
BEGIN:VEVENT
DTSTART;TZID=America/New_York:20250430T080000
DTEND;TZID=America/New_York:20250502T160000
DTSTAMP:20260420T073932
CREATED:20250307T202200Z
LAST-MODIFIED:20250307T202200Z
UID:10000201-1746000000-1746201600@cranes101.com
SUMMARY:Mobile Crane Nationally Accredited Certification Program - National Sign - CT
DESCRIPTION:These all mobile crane nationally accredited certificate courses are NCCER/OSHA/ANSI approved programs for licensing crane operators. Crane operators must be licensed to operate per OSHA Subpart CC.  \nFor more information as to the content of this class\, please view the descriptions here. The list below shows the types of cranes this course can cover\, depending on what the students operate on the job. Please specify what type of crane you will be operating when you pre-register\, if possible. \n\nFixed/rotating boom trucks\nTelescopic boom truck/rough terrain crane/all terrain crane\nLattice boom cranes\n\nTCIA Members save 10% and will earn 21 CTSP CEU’s when the course is completed. \nIf you are a member of the ISA\, our training is certified for the following: \n\n8 Practice \n8 Management \n16 Climber Specialist\n16 Certified Arborist\n16 Utility Specialist\n16 Municipal Specialist – 16 Aerial Lift\n\nTraining Length: \nDay One  \n\nClassroom instruction on crane operator safety\n\nDay Two* \n\nClassroom instruction in the morning – Testing (written and/or practical exams) begins after lunch\n\nDay Three* \n\nRemaining Exams (written and/or practical)\n\n*Exam schedule may vary based on class size\, weather and practical examiner/proctor availability. \nBoth the written and the practical examinations must be passed with a score of 80 or higher before a nationally accredited crane operator license can be granted. \n  \nUse this form below to pre-register for this Mobile Crane Nationally Accredited Certificate Course or request more information. One of our staff will be in contact with you soon. 
URL:https://cranes101.com/event/april30-may1-may2-mobile-crane-nationally-accredited-certification-program-national-sign-ct-2/
LOCATION:Connecticut
CATEGORIES:Crane Operator Certification,Nationally Accredited
END:VEVENT
BEGIN:VEVENT
DTSTART;TZID=America/New_York:20250507T080000
DTEND;TZID=America/New_York:20250509T160000
DTSTAMP:20260420T073932
CREATED:20250307T202328Z
LAST-MODIFIED:20250307T202328Z
UID:10000202-1746604800-1746806400@cranes101.com
SUMMARY:Mobile Crane Nationally Accredited Certification Program - Bellingham MA - OPEN REGISTRATION
DESCRIPTION:These all mobile crane nationally accredited certificate courses are NCCER/OSHA/ANSI approved programs for licensing crane operators. Crane operators must be licensed to operate per OSHA Subpart CC.  \nFor more information as to the content of this class\, please view the descriptions here. The list below shows the types of cranes this course can cover\, depending on what the students operate on the job. Please specify what type of crane you will be operating when you pre-register\, if possible. \n\nFixed/rotating boom trucks\nTelescopic boom truck/rough terrain crane/all terrain crane\nLattice boom cranes\n\nTCIA Members save 10% and will earn 21 CTSP CEU’s when the course is completed. \nIf you are a member of the ISA\, our training is certified for the following: \n\n8 Practice \n8 Management \n16 Climber Specialist\n16 Certified Arborist\n16 Utility Specialist\n16 Municipal Specialist – 16 Aerial Lift\n\nTraining Length: \nDay One  \n\nClassroom instruction on crane operator safety\n\nDay Two* \n\nClassroom instruction in the morning – Testing (written and/or practical exams) begins after lunch\n\nDay Three* \n\nRemaining Exams (written and/or practical)\n\n*Exam schedule may vary based on class size\, weather and practical examiner/proctor availability. \nBoth the written and the practical examinations must be passed with a score of 80 or higher before a nationally accredited crane operator license can be granted. \n  \nUse this form below to pre-register for this Mobile Crane Nationally Accredited Certificate Course or request more information. One of our staff will be in contact with you soon. 
URL:https://cranes101.com/event/may7-may8-may9-mobile-crane-nationally-accredited-certification-program-bellingham-ma-open-registration-2/
LOCATION:Connecticut
CATEGORIES:Crane Operator Certification,Nationally Accredited
END:VEVENT
BEGIN:VEVENT
DTSTART;TZID=America/New_York:20250510T080000
DTEND;TZID=America/New_York:20250510T173000
DTSTAMP:20260420T073932
CREATED:20250307T203302Z
LAST-MODIFIED:20250307T203302Z
UID:10000206-1746864000-1746898200@cranes101.com
SUMMARY:2A/1B/1C MA Hoisting License Preparation/Continuing Education Course - Bellingham MA - OPEN
DESCRIPTION:You are required to have a Hoisting Engineer license to operate any equipment that lifts over 10 ft in height\, over 500 lbs in weight or over 1/4 yard of bucket capacity in Massachusetts\, per the 520 CMR 6.00 law. This course is designed to prepare the attendee for successful completion of the Hoisting Engineers’ license test. Cranes101 recommends that before taking this hoisting license preparation course to be sure to apply for a test date.Then take the class closest to the test date. \nFor more information as to the content of this class\, please view the descriptions here. \nAttendees are only required to attend the course(s) they need. If you are looking for a license preparation for another restriction that is not listed\, please let us know.  We offer all license classes (1-3’s).  We do not have license preparation classes for the 4’s\, just online continuing education courses. \n  \n  \nThis is also a safety seminar that will earn the operator his/hers required CEU \nTraining Length – License Preparation \n2A: 8-12            1B: 12-5:30 (1C will be incorporated as part of 1B) \nUse this form below to request more information on attending one of our monthly open classes or to host a class at your location. One of our staff will be in contact with you soon. \n \n 
URL:https://cranes101.com/event/may10-2a-1b-1c-ma-hoisting-license-preparation-continuing-education-course-bellingham-ma-open-2/
LOCATION:Connecticut
CATEGORIES:MA Licensing Prep and Continuing Education
END:VEVENT
BEGIN:VEVENT
DTSTART;TZID=America/New_York:20250513T073000
DTEND;TZID=America/New_York:20250513T153000
DTSTAMP:20260420T073933
CREATED:20250307T203845Z
LAST-MODIFIED:20250307T203845Z
UID:10000210-1747121400-1747150200@cranes101.com
SUMMARY:Bucket Truck Safety Training with Operator Evaluations - MA DOT - Northampton MA - CLOSED
DESCRIPTION:This bucket truck operator safety training class is focused on operations and safety training for operators and ground workers. Material covered in this course: \n\n    Bucket truck setup\n    The mechanics of the bucket truck\n    Daily inspections\n    Working near electricity\n    ANSI and OSHA standards\n    Proper harness/belt configurations\n    Emergency procedures\n    Proper care and maintenance\n    Suspension trauma\n\nThis training meets or exceeds all requirements of OSHA\, ANSI A92.2 and your insurance company. \nThere will be hands-on review of the equipment. Our trainer will go over proper pre-use inspections as well as proper setup of the bucket truck on-site.  Each operator will be required to run through a variety of tasks to insure competence on the equipment.  You must qualify on the equipment you use or on equipment that is the same configuration as your equipment.  Please make arrangements to have your bucket truck on site for compliance. \nFor more information as to the content of this class\, please view the description here. \nTraining Length: \n\n4-5 hours safety training course\nAllow 15-20 minutes per qualification\nRecommend maximum of 12-14 attendees (7 minimum)\n\nUse this form below to request more information about our bucket truck operator safety course. One of our staff will be in contact with you soon. \n  \n  \nOPERATOR QUALIFICATIONS \nIn addition to equipment specific safety training\, OSHA requires operators to be evaluated on the equipment they operate.  While this can be done by a supervisor\, most of our customers prefer a 3rd party evaluation.  Operators receive a certificate as well as a wallet card which includes the make\, model and serial number of the equipment they were tested on. \nWe offer hands-on qualification on various types of equipment including forklift\, MEWP\, bucket trucks and mobile cranes.  We can provide the evaluations with or without a safety training class\, but recommend holding both on the same day – safety training class in the morning\, lunch break\, qualifications in the afternoon. \nPlease contact our office at 508-966-4100 or use this form below to request more information. One of our staff will be in contact with you soon.
URL:https://cranes101.com/event/may13-bucket-truck-safety-training-with-operator-evaluations-ma-dot-northampton-ma-closed-2/
LOCATION:Connecticut
CATEGORIES:Construction Courses
END:VEVENT
BEGIN:VEVENT
DTSTART;TZID=America/New_York:20250513T080000
DTEND;TZID=America/New_York:20250515T160000
DTSTAMP:20260420T073933
CREATED:20250403T123542Z
LAST-MODIFIED:20250403T123542Z
UID:10000227-1747123200-1747324800@cranes101.com
SUMMARY:Mobile Crane Nationally Accredited Certification Program-Educational Trust - Flushing NY - CLOSED
DESCRIPTION:These all mobile crane nationally accredited certificate courses are NCCER/OSHA/ANSI approved programs for licensing crane operators. Crane operators must be licensed to operate per OSHA Subpart CC.  \nFor more information as to the content of this class\, please view the descriptions here. The list below shows the types of cranes this course can cover\, depending on what the students operate on the job. Please specify what type of crane you will be operating when you pre-register\, if possible. \n\nFixed/rotating boom trucks\nTelescopic boom truck/rough terrain crane/all terrain crane\nLattice boom cranes\n\nTCIA Members save 10% and will earn 21 CTSP CEU’s when the course is completed. \nIf you are a member of the ISA\, our training is certified for the following: \n\n8 Practice \n8 Management \n16 Climber Specialist\n16 Certified Arborist\n16 Utility Specialist\n16 Municipal Specialist – 16 Aerial Lift\n\nTraining Length: \nDay One  \n\nClassroom instruction on crane operator safety\n\nDay Two* \n\nClassroom instruction in the morning – Testing (written and/or practical exams) begins after lunch\n\nDay Three* \n\nRemaining Exams (written and/or practical)\n\n*Exam schedule may vary based on class size\, weather and practical examiner/proctor availability. \nBoth the written and the practical examinations must be passed with a score of 80 or higher before a nationally accredited crane operator license can be granted. \n  \nThis class is closed/full. To request information about hosting a class similar to this one\, please complete this form below and one of our staff will be in contact with you soon.  \n  \n 
URL:https://cranes101.com/event/may13-may14-may15-mobile-crane-nationally-accredited-certification-program-educational-trust-flushing-ny-closed-2/
LOCATION:Connecticut
CATEGORIES:Crane Operator Certification,Nationally Accredited
END:VEVENT
BEGIN:VEVENT
DTSTART;TZID=America/New_York:20250514T073000
DTEND;TZID=America/New_York:20250514T153000
DTSTAMP:20260420T073933
CREATED:20250307T203959Z
LAST-MODIFIED:20250307T203959Z
UID:10000211-1747207800-1747236600@cranes101.com
SUMMARY:Bucket Truck Operator Safety Training with Evaluations - MA DOT - Weston MA - CLOSED
DESCRIPTION:This bucket truck operator safety training class is focused on operations and safety training for operators and ground workers. Material covered in this course: \n\n    Bucket truck setup\n    The mechanics of the bucket truck\n    Daily inspections\n    Working near electricity\n    ANSI and OSHA standards\n    Proper harness/belt configurations\n    Emergency procedures\n    Proper care and maintenance\n    Suspension trauma\n\nThis training meets or exceeds all requirements of OSHA\, ANSI A92.2 and your insurance company. \nThere will be hands-on review of the equipment. Our trainer will go over proper pre-use inspections as well as proper setup of the bucket truck on-site.  Each operator will be required to run through a variety of tasks to insure competence on the equipment.  You must qualify on the equipment you use or on equipment that is the same configuration as your equipment.  Please make arrangements to have your bucket truck on site for compliance. \nFor more information as to the content of this class\, please view the description here. \nTraining Length: \n\n4-5 hours safety training course\nAllow 15-20 minutes per qualification\nRecommend maximum of 12-14 attendees (7 minimum)\n\nUse this form below to request more information about our bucket truck operator safety course. One of our staff will be in contact with you soon. \n  \n  \nOPERATOR QUALIFICATIONS \nIn addition to equipment specific safety training\, OSHA requires operators to be evaluated on the equipment they operate.  While this can be done by a supervisor\, most of our customers prefer a 3rd party evaluation.  Operators receive a certificate as well as a wallet card which includes the make\, model and serial number of the equipment they were tested on. \nWe offer hands-on qualification on various types of equipment including forklift\, MEWP\, bucket trucks and mobile cranes.  We can provide the evaluations with or without a safety training class\, but recommend holding both on the same day – safety training class in the morning\, lunch break\, qualifications in the afternoon. \nPlease contact our office at 508-966-4100 or use this form below to request more information. One of our staff will be in contact with you soon.
URL:https://cranes101.com/event/may15-bucket-truck-operator-safety-training-with-evaluations-ma-dot-weston-ma-closed-2/
LOCATION:Connecticut
CATEGORIES:Crane Operator Certification
END:VEVENT
BEGIN:VEVENT
DTSTART;TZID=America/New_York:20250515T080000
DTEND;TZID=America/New_York:20250515T160000
DTSTAMP:20260420T073933
CREATED:20250307T181327Z
LAST-MODIFIED:20250307T181327Z
UID:10000189-1747296000-1747324800@cranes101.com
SUMMARY:Bucket Truck Operator Safety Training with Qualifications - NH DOT - Hooksett - CLOSED
DESCRIPTION:This bucket truck operator safety training class is focused on operations and safety training for operators and ground workers. Material covered in this course: \n\n    Bucket truck setup\n    The mechanics of the bucket truck\n    Daily inspections\n    Working near electricity\n    ANSI and OSHA standards\n    Proper harness/belt configurations\n    Emergency procedures\n    Proper care and maintenance\n    Suspension trauma\n\nThis training meets or exceeds all requirements of OSHA\, ANSI A92.2 and your insurance company. \nThere will be hands-on review of the equipment. Our trainer will go over proper pre-use inspections as well as proper setup of the bucket truck on-site.  Each operator will be required to run through a variety of tasks to insure competence on the equipment.  You must qualify on the equipment you use or on equipment that is the same configuration as your equipment.  Please make arrangements to have your bucket truck on site for compliance. \nFor more information as to the content of this class\, please view the description here. \nTraining Length: \n\n4-5 hours safety training course\nAllow 15-20 minutes per qualification\nRecommend maximum of 12-14 attendees (7 minimum)\n\nUse this form below to request more information about our bucket truck operator safety course. One of our staff will be in contact with you soon. \n  \n  \nOPERATOR QUALIFICATIONS \nIn addition to equipment specific safety training\, OSHA requires operators to be evaluated on the equipment they operate.  While this can be done by a supervisor\, most of our customers prefer a 3rd party evaluation.  Operators receive a certificate as well as a wallet card which includes the make\, model and serial number of the equipment they were tested on. \nWe offer hands-on qualification on various types of equipment including forklift\, MEWP\, bucket trucks and mobile cranes.  We can provide the evaluations with or without a safety training class\, but recommend holding both on the same day – safety training class in the morning\, lunch break\, qualifications in the afternoon. \nPlease contact our office at 508-966-4100 or use this form below to request more information. One of our staff will be in contact with you soon.
URL:https://cranes101.com/event/may15-bucket-truck-operator-safety-training-with-qualifications-nh-dot-hooksett-closed-2/
LOCATION:Connecticut
CATEGORIES:Construction Courses
END:VEVENT
BEGIN:VEVENT
DTSTART;TZID=America/New_York:20250529T080000
DTEND;TZID=America/New_York:20250530T150000
DTSTAMP:20260420T073933
CREATED:20250514T120701Z
LAST-MODIFIED:20250514T123643Z
UID:10000229-1748505600-1748617200@cranes101.com
SUMMARY:Bucket Truck Inspection with Dielectric Testing - Bellingham MA - OPEN REGISTRATION - Call 508-966-4100
DESCRIPTION:Vehicle Mounted Aerial Lift Inspection Training\nThis course offers training on conducting dielectric tests on aerial devices to measure any potential conductivity on insulated components and is best designed for experienced operators and mechanics who are interested in becoming the on-site equipment inspectors for their company. \nThis course is designed to cover the latest revisions of all relevant government and industry standards (OSHA and ANSI/ASME) with regards to how they should be used during inspections and creating reports detailing any deficiencies and recommendations. \nMaterial covered includes: \n\nHow the OSHA and ASME Standards apply to dielectric testing\nDescribing aerial device components\nStep-by-step procedures on conducting dielectric tests using a HiPot\nInterpreting dielectric test results\nHand-on Training and practice.\n\n 
URL:https://cranes101.com/event/may29-may30-bucket-truck-inspection-with-dielectric-testing/
LOCATION:Cranes101\, 57 Mendon Street\, Bellingham\, MA\, 02019\, United States
CATEGORIES:Heavy Equipment Inspection
END:VEVENT
BEGIN:VEVENT
DTSTART;TZID=America/New_York:20250531T080000
DTEND;TZID=America/New_York:20250531T150000
DTSTAMP:20260420T073933
CREATED:20250514T121128Z
LAST-MODIFIED:20250602T191932Z
UID:10000230-1748678400-1748703600@cranes101.com
SUMMARY:Hi Rail Gear Inspection Training - Bellingham\, MA - OPEN Registration - call 508-966-4100
DESCRIPTION:This course is best designed for experienced operators and mechanics who are interested in becoming the on-site inspectors for their company. \nThis course is designed to cover the Federal Railroad Administration 49 CFR 214 standards with regards to how they should be used during inspections and creating reports detailing any deficiencies and recommendations. \n  \nCourse Content\n\nHow the standards apply to inspections\nWhat equipment is made by manufacturers\nHi Rail Gear Components\nStep-by-step inspection procedures\n\nCranes101 can bring this class to you. Please contact us to schedule your special training session.
URL:https://cranes101.com/event/may31-hi-rail-gear-inspection-training/
LOCATION:Cranes101\, 57 Mendon Street\, Bellingham\, MA\, 02019\, United States
CATEGORIES:Heavy Equipment Inspection
ATTACH;FMTTYPE=image/jpeg:https://cranes101.com/wp-content/uploads/2025/05/Hi-Rail-Gear-Truck-1.jpg
END:VEVENT
END:VCALENDAR