BEGIN:VCALENDAR
VERSION:2.0
PRODID:-//Cranes101 - ECPv6.15.20//NONSGML v1.0//EN
CALSCALE:GREGORIAN
METHOD:PUBLISH
X-ORIGINAL-URL:https://cranes101.com
X-WR-CALDESC:Events for Cranes101
REFRESH-INTERVAL;VALUE=DURATION:PT1H
X-Robots-Tag:noindex
X-PUBLISHED-TTL:PT1H
BEGIN:VTIMEZONE
TZID:America/New_York
BEGIN:DAYLIGHT
TZOFFSETFROM:-0500
TZOFFSETTO:-0400
TZNAME:EDT
DTSTART:20240310T070000
END:DAYLIGHT
BEGIN:STANDARD
TZOFFSETFROM:-0400
TZOFFSETTO:-0500
TZNAME:EST
DTSTART:20241103T060000
END:STANDARD
BEGIN:DAYLIGHT
TZOFFSETFROM:-0500
TZOFFSETTO:-0400
TZNAME:EDT
DTSTART:20250309T070000
END:DAYLIGHT
BEGIN:STANDARD
TZOFFSETFROM:-0400
TZOFFSETTO:-0500
TZNAME:EST
DTSTART:20251102T060000
END:STANDARD
BEGIN:DAYLIGHT
TZOFFSETFROM:-0500
TZOFFSETTO:-0400
TZNAME:EDT
DTSTART:20260308T070000
END:DAYLIGHT
BEGIN:STANDARD
TZOFFSETFROM:-0400
TZOFFSETTO:-0500
TZNAME:EST
DTSTART:20261101T060000
END:STANDARD
BEGIN:DAYLIGHT
TZOFFSETFROM:-0500
TZOFFSETTO:-0400
TZNAME:EDT
DTSTART:20270314T070000
END:DAYLIGHT
BEGIN:STANDARD
TZOFFSETFROM:-0400
TZOFFSETTO:-0500
TZNAME:EST
DTSTART:20271107T060000
END:STANDARD
END:VTIMEZONE
BEGIN:VEVENT
DTSTART;TZID=America/New_York:20260210T080000
DTEND;TZID=America/New_York:20260210T160000
DTSTAMP:20260421T004533
CREATED:20260116T173756Z
LAST-MODIFIED:20260116T173756Z
UID:10000378-1770710400-1770739200@cranes101.com
SUMMARY:Bucket Truck Operator Safety Training with Operator Evaluations - Amherst DPW - PRIVATE
DESCRIPTION:This bucket truck operator safety training class is focused on operations and safety training for operators and ground workers. Material covered in this course: \n\n    Bucket truck setup\n    The mechanics of the bucket truck\n    Daily inspections\n    Working near electricity\n    ANSI and OSHA standards\n    Proper harness/belt configurations\n    Emergency procedures\n    Proper care and maintenance\n    Suspension trauma\n\nThis training meets or exceeds all requirements of OSHA\, ANSI A92.2 and your insurance company. \nThere will be hands-on review of the equipment. Our trainer will go over proper pre-use/daily inspections as well as proper setup of the bucket truck on-site.  Each operator will be required to run through a variety of tasks to insure competence on the equipment.  You must qualify on the equipment you use or on equipment that is the same configuration as your equipment.  Please make arrangements to have your bucket truck on site for compliance. \nFor full compliance with OSHA\, hands-on operator evaluations are required.  While this can be done by a supervisor\, many customers prefer a 3rd party evaluation.  Cranes101 offers these evaluations at a discount when combined with the safety training course. \nOperators receive a certificate of evaluation as well as a wallet card which includes the make\, model and serial number of the equipment they were tested on. \nTraining Length: \n\n4-5 hours safety training course\nAllow 15-20 minutes per qualification – maximum of 12-14 attendees (7 minimum)\n\nUse this form below to request more information about our bucket truck operator safety course. One of our staff will be in contact with you soon. \nPlease enable JavaScript in your browser to complete this form.Please enable JavaScript in your browser to complete this form.Contact Name *FirstLastBusiness Name *Email *Phone *Address *Address Line 1City--- Select state ---AlabamaAlaskaArizonaArkansasCaliforniaColoradoConnecticutDelawareDistrict of ColumbiaFloridaGeorgiaHawaiiIdahoIllinoisIndianaIowaKansasKentuckyLouisianaMaineMarylandMassachusettsMichiganMinnesotaMississippiMissouriMontanaNebraskaNevadaNew HampshireNew JerseyNew MexicoNew YorkNorth CarolinaNorth DakotaOhioOklahomaOregonPennsylvaniaRhode IslandSouth CarolinaSouth DakotaTennesseeTexasUtahVermontVirginiaWashingtonWest VirginiaWisconsinWyomingStateZip CodeWhat can we help you with? *Nationally Accredited Mobile Crane Operator License CoursesMA OPSI SafetyWorks Workplace Training GrantOnline Training (available for some\, but not all\, courses)In Person TrainingOSHA Compliant Annual InspectionsRepairsExpert Witness / ConsultingTech Support - portal\, daily inspections\, or other non-training-relatedPay or Locate an InvoiceNationally Accredited Mobile Crane Operator License CoursesIn PersonHybrid - online course\, in person exams		\n			this we Certification\n			\n		\n		What in-person trainings are you interested in?Nationally Accredited Mobile Crane Operator License Classes (Live and Hybrid Options Available)Heavy Equipment Operator Safety (Live and Online Options Available)State Licensing Preparation (MA/RI/CT/NY)Heavy Equipment Inspection TrainingSignal Person / Basic Rigging ClassesOtherHeavy Equipment Operator Safety CoursesForkliftOverhead CraneBucket TruckMEWP / Personnel LiftInspector Certification OptionsHi Rail Gear Inspector CertificationBucket Truck Inspector Certification with DielectricMobile Crane Inspector CertificationStateMA - Continuing EducationMA - License PrepRI (online only: Mobile Crane or Excavator)CT (online only)NY (online only)Class TypeHosting a classSending an attendee to an open classPotentially open to eitherHow many attendees? *How can we assist you with online classes?Want to sign up for a classNeed the list of currently available classesI need to reset my password for the Moodle online learning platform. I'll try this link!I tried those links\, but didn't get what I needed - please help.I have other questionsI would like more info on NCCER Mobile Crane Online / In Person Hybrid ClassAttendance Optionsas an individualas a host companyEquipment to be inspected: *When do you need this inspection by?Equipment LocationMARICTNHMEVTNYotherother locationDo you want to give us a call right now?Yes :  please submit this form first\, and then call 1-866-788-7600It's after hours or I can't chat right now\, so I'll just hit submit and wait to hear back from you.Please describe the issue you're having and how our experts may be of assistance:Invoice #Amount owed\, if you knowWhen was the class or service this invoice is for?Please check any / all that apply to your situation:I'm an existing customer trying to log into the portal\, but I can't get inI want to log my daily inspections with your system and need helpI need help with my online classesIt's something elseAnything else?How did you hear about us?Online SearchI've used Cranes101 beforeProfessional OrganizationTrade ShowReferral from Personal Connection in the IndustrySocial MediaReceived a PostcardOtherAny details you can share about referral who/what/where?May we contact you (by email/phone/text) regarding this inquiry and other services that may be relevant to you? *Yes\, please do contact me.Submit
URL:https://cranes101.com/event/feb10-bucket-truck-operator-safety-training-with-operator-evaluations/
LOCATION:Amherst\, MA\, Amherst\, Massachusetts
CATEGORIES:Construction Courses
ATTACH;FMTTYPE=image/jpeg:https://cranes101.com/wp-content/uploads/2025/06/istockphoto-945339656-612x612-1.jpg
END:VEVENT
BEGIN:VEVENT
DTSTART;TZID=America/New_York:20251001T080000
DTEND;TZID=America/New_York:20251001T120000
DTSTAMP:20260421T004533
CREATED:20250922T184854Z
LAST-MODIFIED:20250922T184854Z
UID:10000301-1759305600-1759320000@cranes101.com
SUMMARY:MA 1C Hoisting License Preparation Class - Amherst College - PRIVATE
DESCRIPTION:You are required to have a Hoisting Engineer license to operate any equipment that lifts over 10 ft in height\, over 500 lbs in weight or over 1/4 yard of bucket capacity in Massachusetts\, per the 520 CMR 6.00 law. This course is designed to prepare the attendee for successful completion of the Hoisting Engineers’ license test.    \nCranes101 offers these courses for our customers at their location and suggest that all students needing licenses\, submit their applications at the same time so they get the same testing date.  We also offer these courses online at cranes101.com AND we hold an open class for the Class 2 and Class 1 licenses on the Saturday before the state’s testing week. \nWhen planning your license prep course\, please be aware that it can take 4-8 weeks to get a testing date. \n  \nFor more information as to the content of this class\, please view the descriptions here.
URL:https://cranes101.com/event/oct1-ma-1c-hoisting-license-preparation-class-amherst-college-private/
LOCATION:Amherst\, MA\, Amherst\, Massachusetts
CATEGORIES:MA Licensing Prep and Continuing Education
ATTACH;FMTTYPE=image/png:https://cranes101.com/wp-content/uploads/2019/12/1C_MA_hoisting.png
END:VEVENT
END:VCALENDAR