BEGIN:VCALENDAR
VERSION:2.0
PRODID:-//Cranes101 - ECPv6.15.20//NONSGML v1.0//EN
CALSCALE:GREGORIAN
METHOD:PUBLISH
X-WR-CALNAME:Cranes101
X-ORIGINAL-URL:https://cranes101.com
X-WR-CALDESC:Events for Cranes101
REFRESH-INTERVAL;VALUE=DURATION:PT1H
X-Robots-Tag:noindex
X-PUBLISHED-TTL:PT1H
BEGIN:VTIMEZONE
TZID:America/New_York
BEGIN:DAYLIGHT
TZOFFSETFROM:-0500
TZOFFSETTO:-0400
TZNAME:EDT
DTSTART:20250309T070000
END:DAYLIGHT
BEGIN:STANDARD
TZOFFSETFROM:-0400
TZOFFSETTO:-0500
TZNAME:EST
DTSTART:20251102T060000
END:STANDARD
BEGIN:DAYLIGHT
TZOFFSETFROM:-0500
TZOFFSETTO:-0400
TZNAME:EDT
DTSTART:20260308T070000
END:DAYLIGHT
BEGIN:STANDARD
TZOFFSETFROM:-0400
TZOFFSETTO:-0500
TZNAME:EST
DTSTART:20261101T060000
END:STANDARD
BEGIN:DAYLIGHT
TZOFFSETFROM:-0500
TZOFFSETTO:-0400
TZNAME:EDT
DTSTART:20270314T070000
END:DAYLIGHT
BEGIN:STANDARD
TZOFFSETFROM:-0400
TZOFFSETTO:-0500
TZNAME:EST
DTSTART:20271107T060000
END:STANDARD
END:VTIMEZONE
BEGIN:VEVENT
DTSTART;TZID=America/New_York:20260326T080000
DTEND;TZID=America/New_York:20260326T140000
DTSTAMP:20260420T200805
CREATED:20260409T135415Z
LAST-MODIFIED:20260409T135919Z
UID:10000425-1774512000-1774533600@cranes101.com
SUMMARY:Signalperson with Basic Rigging - VMJ - NJ - PRIVATE
DESCRIPTION:This live signalperson/basic rigger certification course covers: \n\nRigging component identification\nMathematical calculations\nSling selection\nRigging inspection\nWire rope and chain design\nProper rigging techniques\nProper use of the ANSI hand signals\nCrane limitations\nCrane characteristics and dynamics\nSignalperson requirements per OSHA 1926.1419-1926.1422\nWorking near power lines\nVoice signals \n\nThis training meets the requirements mandated in OSHA 1926.1419 through \n1926.1422 and 1926.1428\, and ANSI/ASME B30 standards. \nFor more information as to the content of this class\, please view the descriptions here. \nTraining Length: \n\n4 to 6 hour course\n\nParticipants will receive a card certifying that they have successfully completed this training that they should carry on the job-site. \nUse this form below to request more information about our signalperson/rigger course. One of our staff will be in contact with you soon.  \nPlease enable JavaScript in your browser to complete this form.Please enable JavaScript in your browser to complete this form.Contact Name *FirstLastBusiness Name *Email *Phone *Address *Address Line 1City--- Select state ---AlabamaAlaskaArizonaArkansasCaliforniaColoradoConnecticutDelawareDistrict of ColumbiaFloridaGeorgiaHawaiiIdahoIllinoisIndianaIowaKansasKentuckyLouisianaMaineMarylandMassachusettsMichiganMinnesotaMississippiMissouriMontanaNebraskaNevadaNew HampshireNew JerseyNew MexicoNew YorkNorth CarolinaNorth DakotaOhioOklahomaOregonPennsylvaniaRhode IslandSouth CarolinaSouth DakotaTennesseeTexasUtahVermontVirginiaWashingtonWest VirginiaWisconsinWyomingStateZip CodeWhat can we help you with? *Nationally Accredited Mobile Crane Operator License CoursesMA OPSI SafetyWorks Workplace Training GrantOnline Training (available for some\, but not all\, courses)In Person TrainingOSHA Compliant Annual InspectionsRepairsExpert Witness / ConsultingTech Support - portal\, daily inspections\, or other non-training-relatedPay or Locate an InvoiceNationally Accredited Mobile Crane Operator License CoursesIn PersonHybrid - online course\, in person examsWhat in-person trainings are you interested in?Nationally Accredited Mobile Crane Operator License Classes (Live and Hybrid Options Available)Heavy Equipment Operator Safety (Live and Online Options Available)State Licensing Preparation (MA/RI/CT/NY)Heavy Equipment Inspection TrainingSignal Person / Basic Rigging ClassesOtherHeavy Equipment Operator Safety CoursesForkliftOverhead CraneBucket TruckMEWP / Personnel LiftInspector Certification OptionsHi Rail Gear Inspector CertificationBucket Truck Inspector Certification with DielectricMobile Crane Inspector CertificationStateMA - Continuing EducationMA - License PrepRI (online only: Mobile Crane or Excavator)CT (online only)NY (online only)Class TypeHosting a classSending an attendee to an open classPotentially open to eitherHow many attendees? *How can we assist you with online classes?Want to sign up for a classNeed the list of currently available classesI need to reset my password for the Moodle online learning platform. I'll try this link!I tried those links\, but didn't get what I needed - please help.I have other questionsI would like more info on NCCER Mobile Crane Online / In Person Hybrid ClassAttendance Optionsas an individualas a host companyEquipment to be inspected: *When do you need this inspection by?Equipment LocationMARICTNHMEVTNYotherother locationDo you want to give us a call right now?Yes :  please submit this form first\, and then call 1-866-788-7600It's after hours or I can't chat right now\, so I'll just hit submit and wait to hear back from you.		\n			State location you\n			\n		\n		Please describe the issue you're having and how our experts may be of assistance:Invoice #Amount owed\, if you knowWhen was the class or service this invoice is for?Please check any / all that apply to your situation:I'm an existing customer trying to log into the portal\, but I can't get inI want to log my daily inspections with your system and need helpI need help with my online classesIt's something elseAnything else?How did you hear about us?Online SearchI've used Cranes101 beforeProfessional OrganizationTrade ShowReferral from Personal Connection in the IndustrySocial MediaReceived a PostcardOtherAny details you can share about referral who/what/where?May we contact you (by email/phone/text) regarding this inquiry and other services that may be relevant to you? *Yes\, please do contact me.Submit   \n 
URL:https://cranes101.com/event/march26-signalperson-with-basic-rigging-vmj-nj-private/
LOCATION:Monroe\, NJ\, Monroe\, New Jersey\, United States
CATEGORIES:Construction Courses,Industrial Courses
ATTACH;FMTTYPE=image/jpeg:https://cranes101.com/wp-content/uploads/2019/12/Signalperson_Rigger.jpg
END:VEVENT
END:VCALENDAR